BEGIN:VCALENDAR
VERSION:2.0
PRODID:icalendar-ruby
CALSCALE:GREGORIAN
METHOD:PUBLISH
BEGIN:VEVENT
DTSTAMP:20260424T214229Z
UID:392-17183100@clagibsons.com
DTSTART:20261001T013000Z
DTEND:20261001T033000Z
CLASS:PUBLIC
CREATED:20260424T142806
DESCRIPTION:
LAST-MODIFIED:20260424T142806
LOCATION:Email markandmaureen@telus.net for more info
SUMMARY:Life Group with the Wards
URL;VALUE=URI:https://www.clagibsons.com/events/life-group-with-the-wards--
 392/2026-09-30
ATTACH;FILENAME=Life Group With Mark and Maureen-2.jpg;FMTTYPE=image/jpeg:h
 ttps://dq5pwpg1q8ru0.cloudfront.net/2023/09/20/09/19/30/e0c8c59a-9984-4481
 -9475-3de2dcfc55a6/Life%20Group%20With%20Mark%20and%20Maureen-2.jpg
END:VEVENT
END:VCALENDAR
