BEGIN:VCALENDAR
VERSION:2.0
PRODID:icalendar-ruby
CALSCALE:GREGORIAN
METHOD:PUBLISH
BEGIN:VEVENT
DTSTAMP:20260425T012416Z
UID:415-17191540@clagibsons.com
DTSTART:20260811T013000Z
DTEND:20260811T030000Z
CLASS:PUBLIC
CREATED:20260424T171552
DESCRIPTION:A chance to dive deeper into God's word with your brothers in C
 hrist. It's an interactive environment with lots of room for thoughts\, qu
 estions\, and discussion. 
LAST-MODIFIED:20260424T171552
LOCATION:730 School Rd
SUMMARY:Men's LifeGroup
URL;VALUE=URI:https://www.clagibsons.com/events/mens-lifegroup/2026-08-10
ATTACH;FILENAME=Men’s LifeGroup (1).jpg;FMTTYPE=image/jpeg:https://dq5pwp
 g1q8ru0.cloudfront.net/2024/08/28/16/00/37/264408c6-ec26-44b3-9c2a-236a639
 79ff0/Men%E2%80%99s%20LifeGroup%20(1).jpg
END:VEVENT
END:VCALENDAR
